BEGIN:VCALENDAR
VERSION:2.0
CALSCALE:GREGORIAN
PRODID:adamgibbons/ics
METHOD:PUBLISH
X-PUBLISHED-TTL:PT1H
BEGIN:VEVENT
UID:1316@rebaltela.org
SUMMARY:Una donna nella resistenza
DTSTAMP:20260419T135845Z
DTSTART:20260419T150000Z
DTEND:20260419T180000Z
URL:https://rebaltela.org/event/una-donna-nella-resistenza
GEO:44.4955;11.3319
LOCATION:Centro Sociale della Pace - Via del Pratello 53
STATUS:CONFIRMED
CATEGORIES:Resistenza,irma bandiera,presentazione libro,proiezione document
	ario
END:VEVENT
BEGIN:VEVENT
UID:1279@rebaltela.org
SUMMARY:CineTAC #4 - Santi Migranti (Scozia\, 2022\, 24')
DTSTAMP:20260419T135845Z
DTSTART:20260422T180000Z
DTEND:20260422T210000Z
URL:https://rebaltela.org/event/cinetac-4-santi-migranti-scozia-2022-24
GEO:44.4971;11.3516
LOCATION:Zamboni 38 - 38\, Via Zamboni\, Irnerio\, Santo Stefano\, Bologna\
	, Emilia-Romagna\, 40126\, Italia
STATUS:CONFIRMED
CATEGORIES:CineTac,Santi,TAC,TACxUFO,Temporary anthropological community,an
	tropologia,cineforum,documentario,fotografia,fotografia pubblica,migranti,
	migrazione,migrazioni,presentazione,proiezione,proiezione documentario
END:VEVENT
END:VCALENDAR
